BEGIN:VCALENDAR
VERSION:2.0
PRODID:-//Contratero//ES
CALSCALE:GREGORIAN
METHOD:PUBLISH
BEGIN:VEVENT
UID:CA 13/2024@contratero.es
DTSTAMP:20260424T131252Z
DTSTART:20241125T235959
DTEND:20241126T005959
SUMMARY:Cierre: Servicio de gestión telefónica de centralita\, info
DESCRIPTION:Servicio de gestión telefónica de centralita\, información\, gestión documental y grabación de datos en el punto de información central de Guaguas Municipales\, S.A.\, reservado a centros especiales de em...\\n\\nOrganismo: Guaguas Municipales S.A.\\n\\nVer en Contratero: https://contratero.es/contracts/CA 13/2024
URL:https://contratero.es/contracts/CA 13/2024
STATUS:CONFIRMED
BEGIN:VALARM
TRIGGER:-P1D
ACTION:DISPLAY
DESCRIPTION:Recordatorio: Servicio de gestión telefónica
END:VALARM
END:VEVENT
END:VCALENDAR